BEGIN:VCALENDAR
VERSION:2.0
PRODID:-//Mythengay - ECPv6.15.20//NONSGML v1.0//EN
CALSCALE:GREGORIAN
METHOD:PUBLISH
X-WR-CALNAME:Mythengay
X-ORIGINAL-URL:https://www.mythengay.ch
X-WR-CALDESC:Veranstaltungen im Mythengay
REFRESH-INTERVAL;VALUE=DURATION:PT1H
X-Robots-Tag:noindex
X-PUBLISHED-TTL:PT1H
BEGIN:VTIMEZONE
TZID:Europe/Zurich
BEGIN:DAYLIGHT
TZOFFSETFROM:+0100
TZOFFSETTO:+0200
TZNAME:CEST
DTSTART:20210328T010000
END:DAYLIGHT
BEGIN:STANDARD
TZOFFSETFROM:+0200
TZOFFSETTO:+0100
TZNAME:CET
DTSTART:20211031T010000
END:STANDARD
BEGIN:DAYLIGHT
TZOFFSETFROM:+0100
TZOFFSETTO:+0200
TZNAME:CEST
DTSTART:20220327T010000
END:DAYLIGHT
BEGIN:STANDARD
TZOFFSETFROM:+0200
TZOFFSETTO:+0100
TZNAME:CET
DTSTART:20221030T010000
END:STANDARD
BEGIN:DAYLIGHT
TZOFFSETFROM:+0100
TZOFFSETTO:+0200
TZNAME:CEST
DTSTART:20230326T010000
END:DAYLIGHT
BEGIN:STANDARD
TZOFFSETFROM:+0200
TZOFFSETTO:+0100
TZNAME:CET
DTSTART:20231029T010000
END:STANDARD
BEGIN:DAYLIGHT
TZOFFSETFROM:+0100
TZOFFSETTO:+0200
TZNAME:CEST
DTSTART:20240331T010000
END:DAYLIGHT
BEGIN:STANDARD
TZOFFSETFROM:+0200
TZOFFSETTO:+0100
TZNAME:CET
DTSTART:20241027T010000
END:STANDARD
BEGIN:DAYLIGHT
TZOFFSETFROM:+0100
TZOFFSETTO:+0200
TZNAME:CEST
DTSTART:20250330T010000
END:DAYLIGHT
BEGIN:STANDARD
TZOFFSETFROM:+0200
TZOFFSETTO:+0100
TZNAME:CET
DTSTART:20251026T010000
END:STANDARD
END:VTIMEZONE
BEGIN:VEVENT
DTSTART;TZID=Europe/Zurich:20240204T190000
DTEND;TZID=Europe/Zurich:20240204T220000
DTSTAMP:20260421T032203
CREATED:20210715T122039Z
LAST-MODIFIED:20210715T122039Z
UID:521-1707073200-1707084000@www.mythengay.ch
SUMMARY:Mythengay Treff
DESCRIPTION:Wir sind eine lockere Runde von Schwyzer LGBT jeden Alters\, die sich einmal im Monat in Schwyz zu einem Treff zusammenfinden.\nDort wird informiert und diskutiert\, geredet\, gelacht\, etwas getrunken und gegessen. Natürlich kann man da auch neue Leute kennen lernen und Kontakte knüpfen.
URL:https://www.mythengay.ch/event/treff-32/
LOCATION:Restaurant Hirschen\, Hinterdorfstrasse 14\, Schwyz\, 6440\, Switzerland
CATEGORIES:Treff
END:VEVENT
BEGIN:VEVENT
DTSTART;TZID=Europe/Zurich:20240107T190000
DTEND;TZID=Europe/Zurich:20240107T220000
DTSTAMP:20260421T032203
CREATED:20210715T122024Z
LAST-MODIFIED:20210715T122024Z
UID:520-1704654000-1704664800@www.mythengay.ch
SUMMARY:Mythengay Treff
DESCRIPTION:Wir sind eine lockere Runde von Schwyzer LGBT jeden Alters\, die sich einmal im Monat in Schwyz zu einem Treff zusammenfinden.\nDort wird informiert und diskutiert\, geredet\, gelacht\, etwas getrunken und gegessen. Natürlich kann man da auch neue Leute kennen lernen und Kontakte knüpfen.
URL:https://www.mythengay.ch/event/treff-31/
LOCATION:Restaurant Hirschen\, Hinterdorfstrasse 14\, Schwyz\, 6440\, Switzerland
CATEGORIES:Treff
END:VEVENT
BEGIN:VEVENT
DTSTART;TZID=Europe/Zurich:20231203T190000
DTEND;TZID=Europe/Zurich:20231203T220000
DTSTAMP:20260421T032203
CREATED:20210715T122024Z
LAST-MODIFIED:20210715T122024Z
UID:519-1701630000-1701640800@www.mythengay.ch
SUMMARY:Mythengay Treff
DESCRIPTION:Wir sind eine lockere Runde von Schwyzer LGBT jeden Alters\, die sich einmal im Monat in Schwyz zu einem Treff zusammenfinden.\nDort wird informiert und diskutiert\, geredet\, gelacht\, etwas getrunken und gegessen. Natürlich kann man da auch neue Leute kennen lernen und Kontakte knüpfen.
URL:https://www.mythengay.ch/event/treff-30/
LOCATION:Restaurant Hirschen\, Hinterdorfstrasse 14\, Schwyz\, 6440\, Switzerland
CATEGORIES:Treff
END:VEVENT
BEGIN:VEVENT
DTSTART;TZID=Europe/Zurich:20231117T203000
DTEND;TZID=Europe/Zurich:20231117T223000
DTSTAMP:20260421T032203
CREATED:20231020T152928Z
LAST-MODIFIED:20231020T153736Z
UID:1049-1700253000-1700260200@www.mythengay.ch
SUMMARY:mythengay goes PinkPanorama
DESCRIPTION:Besuch des PinkPanorama Festivals am Freitag\, 17.11.2023. \nFilm: Elefant um 21:00 \nPinkPanorama: https://www.pinkpanorama.ch/elefant/ \nTrailer: ELEFANT Trailer Deutsch | German [HD] – YouTube \nTickets: Ticket Shop \nJeder kauf sein Ticket selbst. \nTreffpunkt: 20:30 im Foyer des PinkPanorama in Luzern \nEs würde uns freuen\, viele bekannte Gesichter zu sehen. \n  \nFilmbeschreibung: \nDer 22-jährige Bartek führt einen kleinen Bauernhof in den polnischen Bergen. Seit sich sein Vater aus dem Staub gemacht hat\, ist er das Familienoberhaupt und muss für seine Mutter da sein. Frei fühlt er sich nur\, wenn er Zeit mit seinen geliebten Pferden verbringen kann. Doch als eines Tages der lange verschollene Nachbarssohn Dawid ins Dorf zurückkommt\, gerät Barteks von Pflichterfüllung geprägter Alltag durcheinander. Er muss sich entscheiden: zwischen einem Leben für die Familie und seinen immer stärker werdenden Gefühlen für Dawid.
URL:https://www.mythengay.ch/event/mythengay-goes-pinkpanorama/
LOCATION:Stattkino\, Löwenplatz 11\, Luzern\, Luzern\, 6004\, Switzerland
END:VEVENT
BEGIN:VEVENT
DTSTART;TZID=Europe/Zurich:20231105T190000
DTEND;TZID=Europe/Zurich:20231105T220000
DTSTAMP:20260421T032203
CREATED:20210715T122024Z
LAST-MODIFIED:20210715T122024Z
UID:518-1699210800-1699221600@www.mythengay.ch
SUMMARY:Mythengay Treff
DESCRIPTION:Wir sind eine lockere Runde von Schwyzer LGBT jeden Alters\, die sich einmal im Monat in Schwyz zu einem Treff zusammenfinden.\nDort wird informiert und diskutiert\, geredet\, gelacht\, etwas getrunken und gegessen. Natürlich kann man da auch neue Leute kennen lernen und Kontakte knüpfen.
URL:https://www.mythengay.ch/event/treff-29/
LOCATION:Restaurant Hirschen\, Hinterdorfstrasse 14\, Schwyz\, 6440\, Switzerland
CATEGORIES:Treff
END:VEVENT
BEGIN:VEVENT
DTSTART;TZID=Europe/Zurich:20231001T190000
DTEND;TZID=Europe/Zurich:20231001T220000
DTSTAMP:20260421T032203
CREATED:20210715T122024Z
LAST-MODIFIED:20210715T122024Z
UID:517-1696186800-1696197600@www.mythengay.ch
SUMMARY:Mythengay Treff
DESCRIPTION:Wir sind eine lockere Runde von Schwyzer LGBT jeden Alters\, die sich einmal im Monat in Schwyz zu einem Treff zusammenfinden.\nDort wird informiert und diskutiert\, geredet\, gelacht\, etwas getrunken und gegessen. Natürlich kann man da auch neue Leute kennen lernen und Kontakte knüpfen.
URL:https://www.mythengay.ch/event/treff-28/
LOCATION:Restaurant Hirschen\, Hinterdorfstrasse 14\, Schwyz\, 6440\, Switzerland
CATEGORIES:Treff
END:VEVENT
BEGIN:VEVENT
DTSTART;TZID=Europe/Zurich:20230903T190000
DTEND;TZID=Europe/Zurich:20230903T220000
DTSTAMP:20260421T032203
CREATED:20210715T122024Z
LAST-MODIFIED:20210715T122024Z
UID:516-1693767600-1693778400@www.mythengay.ch
SUMMARY:Mythengay Treff
DESCRIPTION:Wir sind eine lockere Runde von Schwyzer LGBT jeden Alters\, die sich einmal im Monat in Schwyz zu einem Treff zusammenfinden.\nDort wird informiert und diskutiert\, geredet\, gelacht\, etwas getrunken und gegessen. Natürlich kann man da auch neue Leute kennen lernen und Kontakte knüpfen.
URL:https://www.mythengay.ch/event/treff-27/
LOCATION:Restaurant Hirschen\, Hinterdorfstrasse 14\, Schwyz\, 6440\, Switzerland
CATEGORIES:Treff
END:VEVENT
BEGIN:VEVENT
DTSTART;TZID=Europe/Zurich:20230806T190000
DTEND;TZID=Europe/Zurich:20230806T220000
DTSTAMP:20260421T032203
CREATED:20210715T121959Z
LAST-MODIFIED:20210715T121959Z
UID:515-1691348400-1691359200@www.mythengay.ch
SUMMARY:Mythengay Treff
DESCRIPTION:Wir sind eine lockere Runde von Schwyzer LGBT jeden Alters\, die sich einmal im Monat in Schwyz zu einem Treff zusammenfinden.\nDort wird informiert und diskutiert\, geredet\, gelacht\, etwas getrunken und gegessen. Natürlich kann man da auch neue Leute kennen lernen und Kontakte knüpfen.
URL:https://www.mythengay.ch/event/treff-26/
LOCATION:Restaurant Hirschen\, Hinterdorfstrasse 14\, Schwyz\, 6440\, Switzerland
CATEGORIES:Treff
END:VEVENT
BEGIN:VEVENT
DTSTART;TZID=Europe/Zurich:20230702T190000
DTEND;TZID=Europe/Zurich:20230702T220000
DTSTAMP:20260421T032203
CREATED:20210715T121959Z
LAST-MODIFIED:20210715T121959Z
UID:514-1688324400-1688335200@www.mythengay.ch
SUMMARY:Mythengay Treff
DESCRIPTION:Wir sind eine lockere Runde von Schwyzer LGBT jeden Alters\, die sich einmal im Monat in Schwyz zu einem Treff zusammenfinden.\nDort wird informiert und diskutiert\, geredet\, gelacht\, etwas getrunken und gegessen. Natürlich kann man da auch neue Leute kennen lernen und Kontakte knüpfen.
URL:https://www.mythengay.ch/event/treff-25/
LOCATION:Restaurant Hirschen\, Hinterdorfstrasse 14\, Schwyz\, 6440\, Switzerland
CATEGORIES:Treff
END:VEVENT
BEGIN:VEVENT
DTSTART;TZID=Europe/Zurich:20230604T190000
DTEND;TZID=Europe/Zurich:20230604T220000
DTSTAMP:20260421T032203
CREATED:20230405T173726Z
LAST-MODIFIED:20230405T173902Z
UID:1014-1685905200-1685916000@www.mythengay.ch
SUMMARY:Pop-Bingo mit Mona Gamie
DESCRIPTION:Pop-Bingo mit Mona Gamie\nDie Drag-Queen Mona Gamie ist bekannt für ihre Schweizerdeutschen Interpretationen von internationalem Pop-Gut. Am 4. Juni begrüssen wir sie im Hirschen am Mythengay-Pride Event zum Pop-Bingo. Alle sind willkommen. Wer hat wohl das beste Pop-Song-Ohr? \nDas Pop-Bingo findet zusammen mit dem regulären Treff von mythengay statt. Der Treff startet um 19:00.
URL:https://www.mythengay.ch/event/pop-bingo-mit-mona-gamie/
LOCATION:Restaurant Hirschen\, Hinterdorfstrasse 14\, Schwyz\, 6440\, Switzerland
CATEGORIES:Event in Schwyz
ATTACH;FMTTYPE=image/jpeg:https://www.mythengay.ch/wp-content/uploads/2023/04/F3E131A2-87CC-408D-8E35-CFAC3DF89055.jpeg
END:VEVENT
BEGIN:VEVENT
DTSTART;TZID=Europe/Zurich:20230604T190000
DTEND;TZID=Europe/Zurich:20230604T220000
DTSTAMP:20260421T032203
CREATED:20210715T121959Z
LAST-MODIFIED:20210715T121959Z
UID:513-1685905200-1685916000@www.mythengay.ch
SUMMARY:Mythengay Treff
DESCRIPTION:Wir sind eine lockere Runde von Schwyzer LGBT jeden Alters\, die sich einmal im Monat in Schwyz zu einem Treff zusammenfinden.\nDort wird informiert und diskutiert\, geredet\, gelacht\, etwas getrunken und gegessen. Natürlich kann man da auch neue Leute kennen lernen und Kontakte knüpfen.
URL:https://www.mythengay.ch/event/treff-24/
LOCATION:Restaurant Hirschen\, Hinterdorfstrasse 14\, Schwyz\, 6440\, Switzerland
CATEGORIES:Treff
END:VEVENT
BEGIN:VEVENT
DTSTART;TZID=Europe/Zurich:20230507T190000
DTEND;TZID=Europe/Zurich:20230507T220000
DTSTAMP:20260421T032203
CREATED:20210715T121959Z
LAST-MODIFIED:20210715T121959Z
UID:512-1683486000-1683496800@www.mythengay.ch
SUMMARY:Mythengay Treff
DESCRIPTION:Wir sind eine lockere Runde von Schwyzer LGBT jeden Alters\, die sich einmal im Monat in Schwyz zu einem Treff zusammenfinden.\nDort wird informiert und diskutiert\, geredet\, gelacht\, etwas getrunken und gegessen. Natürlich kann man da auch neue Leute kennen lernen und Kontakte knüpfen.
URL:https://www.mythengay.ch/event/treff-23/
LOCATION:Restaurant Hirschen\, Hinterdorfstrasse 14\, Schwyz\, 6440\, Switzerland
CATEGORIES:Treff
END:VEVENT
BEGIN:VEVENT
DTSTART;TZID=Europe/Zurich:20230402T190000
DTEND;TZID=Europe/Zurich:20230402T220000
DTSTAMP:20260421T032203
CREATED:20210715T121959Z
LAST-MODIFIED:20210715T121959Z
UID:511-1680462000-1680472800@www.mythengay.ch
SUMMARY:Mythengay Treff
DESCRIPTION:Wir sind eine lockere Runde von Schwyzer LGBT jeden Alters\, die sich einmal im Monat in Schwyz zu einem Treff zusammenfinden.\nDort wird informiert und diskutiert\, geredet\, gelacht\, etwas getrunken und gegessen. Natürlich kann man da auch neue Leute kennen lernen und Kontakte knüpfen.
URL:https://www.mythengay.ch/event/treff-22/
LOCATION:Restaurant Hirschen\, Hinterdorfstrasse 14\, Schwyz\, 6440\, Switzerland
CATEGORIES:Treff
END:VEVENT
BEGIN:VEVENT
DTSTART;VALUE=DATE:20230319
DTEND;VALUE=DATE:20230320
DTSTAMP:20260421T032203
CREATED:20230113T203358Z
LAST-MODIFIED:20230113T203358Z
UID:997-1679184000-1679270399@www.mythengay.ch
SUMMARY:mythengay GV
DESCRIPTION:Unsere GV inkl. Spaghettiplausch. Ort: im Hirschen\, Schwyz um voraussichtlich 18:00. Genaue Details im Infomail von Februar 2022.
URL:https://www.mythengay.ch/event/mythengay-gv/
LOCATION:Restaurant Hirschen\, Hinterdorfstrasse 14\, Schwyz\, 6440\, Switzerland
CATEGORIES:Treff
END:VEVENT
BEGIN:VEVENT
DTSTART;TZID=Europe/Zurich:20230305T190000
DTEND;TZID=Europe/Zurich:20230305T220000
DTSTAMP:20260421T032203
CREATED:20210715T121756Z
LAST-MODIFIED:20210715T121756Z
UID:510-1678042800-1678053600@www.mythengay.ch
SUMMARY:Mythengay Treff
DESCRIPTION:Wir sind eine lockere Runde von Schwyzer LGBT jeden Alters\, die sich einmal im Monat in Schwyz zu einem Treff zusammenfinden.\nDort wird informiert und diskutiert\, geredet\, gelacht\, etwas getrunken und gegessen. Natürlich kann man da auch neue Leute kennen lernen und Kontakte knüpfen.
URL:https://www.mythengay.ch/event/treff-21/
LOCATION:Restaurant Hirschen\, Hinterdorfstrasse 14\, Schwyz\, 6440\, Switzerland
CATEGORIES:Treff
END:VEVENT
BEGIN:VEVENT
DTSTART;VALUE=DATE:20230211
DTEND;VALUE=DATE:20230212
DTSTAMP:20260421T032203
CREATED:20230113T202900Z
LAST-MODIFIED:20230113T203605Z
UID:995-1676073600-1676159999@www.mythengay.ch
SUMMARY:mythengay Skitag
DESCRIPTION:Reservier dir das Datum für unseren bekannten Skitag. Unter der Leitung von Alt-Präsident Robi geht es ins bekannte Skigebiet Mythen/Rotenflue\, die Details folgen im Infomail vom Januar 2023.
URL:https://www.mythengay.ch/event/mythengay-skitag-2/
LOCATION:Mythenregion
CATEGORIES:Event in Schwyz
END:VEVENT
BEGIN:VEVENT
DTSTART;TZID=Europe/Zurich:20230205T190000
DTEND;TZID=Europe/Zurich:20230205T220000
DTSTAMP:20260421T032203
CREATED:20210715T121756Z
LAST-MODIFIED:20210715T121756Z
UID:509-1675623600-1675634400@www.mythengay.ch
SUMMARY:Mythengay Treff
DESCRIPTION:Wir sind eine lockere Runde von Schwyzer LGBT jeden Alters\, die sich einmal im Monat in Schwyz zu einem Treff zusammenfinden.\nDort wird informiert und diskutiert\, geredet\, gelacht\, etwas getrunken und gegessen. Natürlich kann man da auch neue Leute kennen lernen und Kontakte knüpfen.
URL:https://www.mythengay.ch/event/treff-20/
LOCATION:Restaurant Hirschen\, Hinterdorfstrasse 14\, Schwyz\, 6440\, Switzerland
CATEGORIES:Treff
END:VEVENT
BEGIN:VEVENT
DTSTART;TZID=Europe/Zurich:20230101T190000
DTEND;TZID=Europe/Zurich:20230101T220000
DTSTAMP:20260421T032203
CREATED:20210715T121756Z
LAST-MODIFIED:20210715T121756Z
UID:508-1672599600-1672610400@www.mythengay.ch
SUMMARY:Mythengay Treff
DESCRIPTION:Wir sind eine lockere Runde von Schwyzer LGBT jeden Alters\, die sich einmal im Monat in Schwyz zu einem Treff zusammenfinden.\nDort wird informiert und diskutiert\, geredet\, gelacht\, etwas getrunken und gegessen. Natürlich kann man da auch neue Leute kennen lernen und Kontakte knüpfen.
URL:https://www.mythengay.ch/event/treff-19/
LOCATION:Restaurant Hirschen\, Hinterdorfstrasse 14\, Schwyz\, 6440\, Switzerland
CATEGORIES:Treff
END:VEVENT
BEGIN:VEVENT
DTSTART;TZID=Europe/Zurich:20221204T190000
DTEND;TZID=Europe/Zurich:20221204T220000
DTSTAMP:20260421T032203
CREATED:20210715T121756Z
LAST-MODIFIED:20210715T121756Z
UID:507-1670180400-1670191200@www.mythengay.ch
SUMMARY:Mythengay Treff
DESCRIPTION:Wir sind eine lockere Runde von Schwyzer LGBT jeden Alters\, die sich einmal im Monat in Schwyz zu einem Treff zusammenfinden.\nDort wird informiert und diskutiert\, geredet\, gelacht\, etwas getrunken und gegessen. Natürlich kann man da auch neue Leute kennen lernen und Kontakte knüpfen.
URL:https://www.mythengay.ch/event/treff-18/
LOCATION:Restaurant Hirschen\, Hinterdorfstrasse 14\, Schwyz\, 6440\, Switzerland
CATEGORIES:Treff
END:VEVENT
BEGIN:VEVENT
DTSTART;TZID=Europe/Zurich:20221106T193000
DTEND;TZID=Europe/Zurich:20221106T220000
DTSTAMP:20260421T032203
CREATED:20210715T121756Z
LAST-MODIFIED:20221102T120108Z
UID:506-1667763000-1667772000@www.mythengay.ch
SUMMARY:Mythengay Treff
DESCRIPTION:Treff aufgrund von geschlossener Gesellschaft (Theater) am 6.11.2022 erst ab 19:30! \n  \nWir sind eine lockere Runde von Schwyzer LGBT jeden Alters\, die sich einmal im Monat in Schwyz zu einem Treff zusammenfinden.\nDort wird informiert und diskutiert\, geredet\, gelacht\, etwas getrunken und gegessen. Natürlich kann man da auch neue Leute kennen lernen und Kontakte knüpfen.
URL:https://www.mythengay.ch/event/treff-17/
LOCATION:Restaurant Hirschen\, Hinterdorfstrasse 14\, Schwyz\, 6440\, Switzerland
CATEGORIES:Treff
END:VEVENT
BEGIN:VEVENT
DTSTART;TZID=Europe/Zurich:20221002T190000
DTEND;TZID=Europe/Zurich:20221002T220000
DTSTAMP:20260421T032203
CREATED:20210715T121741Z
LAST-MODIFIED:20210715T121741Z
UID:505-1664737200-1664748000@www.mythengay.ch
SUMMARY:Mythengay Treff
DESCRIPTION:Wir sind eine lockere Runde von Schwyzer LGBT jeden Alters\, die sich einmal im Monat in Schwyz zu einem Treff zusammenfinden.\nDort wird informiert und diskutiert\, geredet\, gelacht\, etwas getrunken und gegessen. Natürlich kann man da auch neue Leute kennen lernen und Kontakte knüpfen.
URL:https://www.mythengay.ch/event/treff-16/
LOCATION:Restaurant Hirschen\, Hinterdorfstrasse 14\, Schwyz\, 6440\, Switzerland
CATEGORIES:Treff
END:VEVENT
BEGIN:VEVENT
DTSTART;TZID=Europe/Zurich:20220904T190000
DTEND;TZID=Europe/Zurich:20220904T220000
DTSTAMP:20260421T032203
CREATED:20210715T121741Z
LAST-MODIFIED:20210715T121741Z
UID:504-1662318000-1662328800@www.mythengay.ch
SUMMARY:Mythengay Treff
DESCRIPTION:Wir sind eine lockere Runde von Schwyzer LGBT jeden Alters\, die sich einmal im Monat in Schwyz zu einem Treff zusammenfinden.\nDort wird informiert und diskutiert\, geredet\, gelacht\, etwas getrunken und gegessen. Natürlich kann man da auch neue Leute kennen lernen und Kontakte knüpfen.
URL:https://www.mythengay.ch/event/treff-15/
LOCATION:Restaurant Hirschen\, Hinterdorfstrasse 14\, Schwyz\, 6440\, Switzerland
CATEGORIES:Treff
END:VEVENT
BEGIN:VEVENT
DTSTART;TZID=Europe/Zurich:20220903T183000
DTEND;TZID=Europe/Zurich:20220903T213000
DTSTAMP:20260421T032203
CREATED:20220802T083121Z
LAST-MODIFIED:20220901T120436Z
UID:936-1662229800-1662240600@www.mythengay.ch
SUMMARY:Mythengay goes Pride Zentralschweiz
DESCRIPTION:Die erste Pride in der Zentralschweiz seit 17 Jahren!!! \nSchwYz ist dabei. Wir treffen uns um am 3. September 2022 um 18:30 auf dem Theaterplatz in Luzern und laufen gemeinsam durch die Leuchtenstadt Luzern. \n1. Pride Zentralschweiz – Demonstration – Pride Zentralschweiz (pride-zentralschweiz.lgbt)
URL:https://www.mythengay.ch/event/mythengay-goes-pride-zentralschweiz/
LOCATION:Theaterplatz Luzern\, Theaterplatz\, Luzern\, LU\, 6003\, Switzerland
CATEGORIES:Pride
END:VEVENT
BEGIN:VEVENT
DTSTART;TZID=Europe/Zurich:20220807T190000
DTEND;TZID=Europe/Zurich:20220807T220000
DTSTAMP:20260421T032203
CREATED:20210715T121741Z
LAST-MODIFIED:20210715T121741Z
UID:503-1659898800-1659909600@www.mythengay.ch
SUMMARY:Mythengay Treff
DESCRIPTION:Wir sind eine lockere Runde von Schwyzer LGBT jeden Alters\, die sich einmal im Monat in Schwyz zu einem Treff zusammenfinden.\nDort wird informiert und diskutiert\, geredet\, gelacht\, etwas getrunken und gegessen. Natürlich kann man da auch neue Leute kennen lernen und Kontakte knüpfen.
URL:https://www.mythengay.ch/event/treff-14/
LOCATION:Restaurant Hirschen\, Hinterdorfstrasse 14\, Schwyz\, 6440\, Switzerland
CATEGORIES:Treff
END:VEVENT
BEGIN:VEVENT
DTSTART;VALUE=DATE:20220717
DTEND;VALUE=DATE:20220718
DTSTAMP:20260421T032203
CREATED:20220613T114924Z
LAST-MODIFIED:20220613T114948Z
UID:910-1658016000-1658102399@www.mythengay.ch
SUMMARY:Mythengay-Wanderung Arnisee
DESCRIPTION:Save the date: SO 17. Juli 2022 oder Verschiebedatum SO 24. Juli 2022 \nWohin: Arnisee im Kanton Uri \n  \nWeitere Infos folgen im Juli-Infomail.
URL:https://www.mythengay.ch/event/mythengay-wanderung/
ATTACH;FMTTYPE=image/jpeg:https://www.mythengay.ch/wp-content/uploads/2022/06/mghike.jpg
END:VEVENT
BEGIN:VEVENT
DTSTART;TZID=Europe/Zurich:20220703T190000
DTEND;TZID=Europe/Zurich:20220703T220000
DTSTAMP:20260421T032203
CREATED:20210715T121741Z
LAST-MODIFIED:20210715T121741Z
UID:502-1656874800-1656885600@www.mythengay.ch
SUMMARY:Mythengay Treff
DESCRIPTION:Wir sind eine lockere Runde von Schwyzer LGBT jeden Alters\, die sich einmal im Monat in Schwyz zu einem Treff zusammenfinden.\nDort wird informiert und diskutiert\, geredet\, gelacht\, etwas getrunken und gegessen. Natürlich kann man da auch neue Leute kennen lernen und Kontakte knüpfen.
URL:https://www.mythengay.ch/event/treff-13/
LOCATION:Restaurant Hirschen\, Hinterdorfstrasse 14\, Schwyz\, 6440\, Switzerland
CATEGORIES:Treff
END:VEVENT
BEGIN:VEVENT
DTSTART;TZID=Europe/Zurich:20220625T140000
DTEND;TZID=Europe/Zurich:20220625T180000
DTSTAMP:20260421T032203
CREATED:20220613T114325Z
LAST-MODIFIED:20220613T114401Z
UID:905-1656165600-1656180000@www.mythengay.ch
SUMMARY:Demonstration Bulle Pride
DESCRIPTION:SA 25. Juni\, Demonstration Pride Bulle\nWir gehen von Mythengay gemeinsam an die Pride in Bulle.\n\nVor Ort wird Linus die Kontaktperson sein: 078 755 13 93.\nTreffpunkt: 14:00 Bahnhof Bulle\n\nAlle weiteren Infos gibt es hier www.facebook.com/events/1083225095595813 und www.bullepride.ch
URL:https://www.mythengay.ch/event/demonstration-pride-bulle/
LOCATION:Bulle\, Bulle\, 1630\, Switzerland
ATTACH;FMTTYPE=image/png:https://www.mythengay.ch/wp-content/uploads/2022/06/2022_Bulle_Pride.png
END:VEVENT
BEGIN:VEVENT
DTSTART;TZID=Europe/Zurich:20220618T120000
DTEND;TZID=Europe/Zurich:20220618T170000
DTSTAMP:20260421T032203
CREATED:20220613T113124Z
LAST-MODIFIED:20220613T113418Z
UID:894-1655553600-1655571600@www.mythengay.ch
SUMMARY:Demonstration Zurich Pride
DESCRIPTION:Wir von Mythengay gehen gemeinsam an die Zurich Pride!\n\nWer ein T-Shirt von Mythengay hat\, darf dieses natürlich gerne anziehen (oder davor noch eines kaufen und unsere Vereinskasse unterstützen? Das geht hier www.mythengay.ch/neues-t-shirt).\n\nTreffpunkte:\n\nBrunnen\, 11.05 Uhr vor dem Kiosk (Abfahrt um 11.20 Uhr mit der S2 auf Gleis 4)\nArth-Goldau\, 11.35 Uhr auf Gleis 3 oben an der Treppe (Abfahrt mit dem EC auf Gleis 3 um 11.45 Uhr)\nZürich HB\, 12.35 Uhr oben an der Treppe beim Sihlpostausgang (zwischen Treppe und Hiltl).\n\nKontaktperson ist unser Präsident Elias: 079 928 11 05. zurichpridefestival.ch/demonstration \nDie über 30 Anlässe der Zurich Pride Weeks findest Du hier\, von Wanderung über Canapé essen und Sport bis zu Living Library und Podium über inklusivem Sport ist alles dabei: gay.ch/zurichprideweeks\n\nDas Magazin vom Zurich Pride Festival mit allen Infos zum Festival und dem politischen Thema «Trans – Vielfalt leben» kannst Du online hier lesen: zurichpridefestival.ch/zurich-pride-magazin\n\nUnd falls Du als Volunteer zum Gelingen dieses Anlasses mithelfen willst kannst Du Dich hier melden: zurichpridefestival.ch/anmeldung-volunteer\n\n\nT-Shirt Shop\nBitte aktivieren Sie JavaScript in Ihrem Browser\, um dieses Formular fertigzustellen.Name *VornameNachnameAdresseEmail *Schnitt *Bitte wählen *Herren - (S)Herren - (M)Herren - (L)Herren tailliert - (S)Herren tailliert - (M)Herren tailliert - (L)Damen - (M)Damen - (L)Jedes T-Shirt CHF 22.-Lieferung *Bitte wählen *Abholung am mythengay TreffVersand (zzgl. 10.00.- Versandkosten)Kommentar *EmailBestellen
URL:https://www.mythengay.ch/event/demonstration-zurich-pride-festival/
LOCATION:Zürich\, Switzerland
ATTACH;FMTTYPE=image/png:https://www.mythengay.ch/wp-content/uploads/2022/06/940x160_zhpf_trans.png
END:VEVENT
BEGIN:VEVENT
DTSTART;TZID=Europe/Zurich:20220611T160000
DTEND;TZID=Europe/Zurich:20220611T230000
DTSTAMP:20260421T032203
CREATED:20220302T180322Z
LAST-MODIFIED:20220426T194026Z
UID:833-1654963200-1654988400@www.mythengay.ch
SUMMARY:20. Jahre stolz in Schwyz - Jubiläum
DESCRIPTION:Seit 20 Jahren setzt sich Mythengay im Kanton Schwyz für die queere Community ein. Das feiern wir an einem Sommerfest mit (Open-Air)-Filmaufführung\, Diskussionsrunde\, Essen und der wunderbar unterhaltsamen und politischen Luzerner Dragqueen Lamer. Für Partystimmung sorgt die queere Schwyzer Band bikini showers. \nKommt vorbei! \nProgramm \n\n16 Uhr: Film\n17.30: Diskussion mit Gründungsmitgliedern und queerpuzzles-Leiter:innen – was hat sich in den letzten 20 Jahren verändert?\n18 Uhr: Apéro riche\n19.30 Uhr: Dragqueen – Lamer\n21 Uhr: Musik – Bikini Showers\n\nDas Fest ist öffentlich und man darf auch nur für einzelne Programmpunkte vorbeikommen 🙂
URL:https://www.mythengay.ch/event/20-jahre-stolz-in-schwyz-jubilaeum/
LOCATION:Restaurant Hirschen\, Hinterdorfstrasse 14\, Schwyz\, 6440\, Switzerland
END:VEVENT
BEGIN:VEVENT
DTSTART;TZID=Europe/Zurich:20220605T190000
DTEND;TZID=Europe/Zurich:20220605T220000
DTSTAMP:20260421T032203
CREATED:20210715T121741Z
LAST-MODIFIED:20210715T121741Z
UID:501-1654455600-1654466400@www.mythengay.ch
SUMMARY:Mythengay Treff
DESCRIPTION:Wir sind eine lockere Runde von Schwyzer LGBT jeden Alters\, die sich einmal im Monat in Schwyz zu einem Treff zusammenfinden.\nDort wird informiert und diskutiert\, geredet\, gelacht\, etwas getrunken und gegessen. Natürlich kann man da auch neue Leute kennen lernen und Kontakte knüpfen.
URL:https://www.mythengay.ch/event/treff-12/
LOCATION:Restaurant Hirschen\, Hinterdorfstrasse 14\, Schwyz\, 6440\, Switzerland
CATEGORIES:Treff
END:VEVENT
END:VCALENDAR