BEGIN:VCALENDAR
VERSION:2.0
PRODID:-//Mythengay - ECPv6.15.20//NONSGML v1.0//EN
CALSCALE:GREGORIAN
METHOD:PUBLISH
X-WR-CALNAME:Mythengay
X-ORIGINAL-URL:https://www.mythengay.ch
X-WR-CALDESC:Veranstaltungen im Mythengay
REFRESH-INTERVAL;VALUE=DURATION:PT1H
X-Robots-Tag:noindex
X-PUBLISHED-TTL:PT1H
BEGIN:VTIMEZONE
TZID:Europe/Zurich
BEGIN:DAYLIGHT
TZOFFSETFROM:+0100
TZOFFSETTO:+0200
TZNAME:CEST
DTSTART:20200329T010000
END:DAYLIGHT
BEGIN:STANDARD
TZOFFSETFROM:+0200
TZOFFSETTO:+0100
TZNAME:CET
DTSTART:20201025T010000
END:STANDARD
BEGIN:DAYLIGHT
TZOFFSETFROM:+0100
TZOFFSETTO:+0200
TZNAME:CEST
DTSTART:20210328T010000
END:DAYLIGHT
BEGIN:STANDARD
TZOFFSETFROM:+0200
TZOFFSETTO:+0100
TZNAME:CET
DTSTART:20211031T010000
END:STANDARD
BEGIN:DAYLIGHT
TZOFFSETFROM:+0100
TZOFFSETTO:+0200
TZNAME:CEST
DTSTART:20220327T010000
END:DAYLIGHT
BEGIN:STANDARD
TZOFFSETFROM:+0200
TZOFFSETTO:+0100
TZNAME:CET
DTSTART:20221030T010000
END:STANDARD
BEGIN:DAYLIGHT
TZOFFSETFROM:+0100
TZOFFSETTO:+0200
TZNAME:CEST
DTSTART:20230326T010000
END:DAYLIGHT
BEGIN:STANDARD
TZOFFSETFROM:+0200
TZOFFSETTO:+0100
TZNAME:CET
DTSTART:20231029T010000
END:STANDARD
END:VTIMEZONE
BEGIN:VEVENT
DTSTART;TZID=Europe/Zurich:20220611T160000
DTEND;TZID=Europe/Zurich:20220611T230000
DTSTAMP:20260421T055051
CREATED:20220302T180322Z
LAST-MODIFIED:20220426T194026Z
UID:833-1654963200-1654988400@www.mythengay.ch
SUMMARY:20. Jahre stolz in Schwyz - Jubiläum
DESCRIPTION:Seit 20 Jahren setzt sich Mythengay im Kanton Schwyz für die queere Community ein. Das feiern wir an einem Sommerfest mit (Open-Air)-Filmaufführung\, Diskussionsrunde\, Essen und der wunderbar unterhaltsamen und politischen Luzerner Dragqueen Lamer. Für Partystimmung sorgt die queere Schwyzer Band bikini showers. \nKommt vorbei! \nProgramm \n\n16 Uhr: Film\n17.30: Diskussion mit Gründungsmitgliedern und queerpuzzles-Leiter:innen – was hat sich in den letzten 20 Jahren verändert?\n18 Uhr: Apéro riche\n19.30 Uhr: Dragqueen – Lamer\n21 Uhr: Musik – Bikini Showers\n\nDas Fest ist öffentlich und man darf auch nur für einzelne Programmpunkte vorbeikommen 🙂
URL:https://www.mythengay.ch/event/20-jahre-stolz-in-schwyz-jubilaeum/
LOCATION:Restaurant Hirschen\, Hinterdorfstrasse 14\, Schwyz\, 6440\, Switzerland
END:VEVENT
BEGIN:VEVENT
DTSTART;TZID=Europe/Zurich:20220605T190000
DTEND;TZID=Europe/Zurich:20220605T220000
DTSTAMP:20260421T055051
CREATED:20210715T121741Z
LAST-MODIFIED:20210715T121741Z
UID:501-1654455600-1654466400@www.mythengay.ch
SUMMARY:Mythengay Treff
DESCRIPTION:Wir sind eine lockere Runde von Schwyzer LGBT jeden Alters\, die sich einmal im Monat in Schwyz zu einem Treff zusammenfinden.\nDort wird informiert und diskutiert\, geredet\, gelacht\, etwas getrunken und gegessen. Natürlich kann man da auch neue Leute kennen lernen und Kontakte knüpfen.
URL:https://www.mythengay.ch/event/treff-12/
LOCATION:Restaurant Hirschen\, Hinterdorfstrasse 14\, Schwyz\, 6440\, Switzerland
CATEGORIES:Treff
END:VEVENT
BEGIN:VEVENT
DTSTART;TZID=Europe/Zurich:20220501T190000
DTEND;TZID=Europe/Zurich:20220501T220000
DTSTAMP:20260421T055051
CREATED:20210715T121725Z
LAST-MODIFIED:20210715T121725Z
UID:500-1651431600-1651442400@www.mythengay.ch
SUMMARY:Mythengay Treff
DESCRIPTION:Wir sind eine lockere Runde von Schwyzer LGBT jeden Alters\, die sich einmal im Monat in Schwyz zu einem Treff zusammenfinden.\nDort wird informiert und diskutiert\, geredet\, gelacht\, etwas getrunken und gegessen. Natürlich kann man da auch neue Leute kennen lernen und Kontakte knüpfen.
URL:https://www.mythengay.ch/event/treff-11/
LOCATION:Restaurant Hirschen\, Hinterdorfstrasse 14\, Schwyz\, 6440\, Switzerland
CATEGORIES:Treff
END:VEVENT
BEGIN:VEVENT
DTSTART;TZID=Europe/Zurich:20220403T190000
DTEND;TZID=Europe/Zurich:20220403T220000
DTSTAMP:20260421T055051
CREATED:20210715T121725Z
LAST-MODIFIED:20210715T121725Z
UID:499-1649012400-1649023200@www.mythengay.ch
SUMMARY:Mythengay Treff
DESCRIPTION:Wir sind eine lockere Runde von Schwyzer LGBT jeden Alters\, die sich einmal im Monat in Schwyz zu einem Treff zusammenfinden.\nDort wird informiert und diskutiert\, geredet\, gelacht\, etwas getrunken und gegessen. Natürlich kann man da auch neue Leute kennen lernen und Kontakte knüpfen.
URL:https://www.mythengay.ch/event/treff-10/
LOCATION:Restaurant Hirschen\, Hinterdorfstrasse 14\, Schwyz\, 6440\, Switzerland
CATEGORIES:Treff
END:VEVENT
BEGIN:VEVENT
DTSTART;TZID=Europe/Zurich:20220403T180000
DTEND;TZID=Europe/Zurich:20220403T190000
DTSTAMP:20260421T055051
CREATED:20220302T182317Z
LAST-MODIFIED:20220302T182535Z
UID:837-1649008800-1649012400@www.mythengay.ch
SUMMARY:20. GV von Mythengay
DESCRIPTION:Jährliche Generalversammlung um 18:00 im Rest. Hirschen-Pub\, Schwyz. Anschliessend Spaghetti-Plausch.
URL:https://www.mythengay.ch/event/20-gv-von-mythengay/
LOCATION:Restaurant Hirschen\, Hinterdorfstrasse 14\, Schwyz\, 6440\, Switzerland
CATEGORIES:Event in Schwyz
END:VEVENT
BEGIN:VEVENT
DTSTART;TZID=Europe/Zurich:20220306T190000
DTEND;TZID=Europe/Zurich:20220306T220000
DTSTAMP:20260421T055051
CREATED:20210715T121725Z
LAST-MODIFIED:20210715T121725Z
UID:498-1646593200-1646604000@www.mythengay.ch
SUMMARY:Mythengay Treff
DESCRIPTION:Wir sind eine lockere Runde von Schwyzer LGBT jeden Alters\, die sich einmal im Monat in Schwyz zu einem Treff zusammenfinden.\nDort wird informiert und diskutiert\, geredet\, gelacht\, etwas getrunken und gegessen. Natürlich kann man da auch neue Leute kennen lernen und Kontakte knüpfen.
URL:https://www.mythengay.ch/event/treff-9/
LOCATION:Restaurant Hirschen\, Hinterdorfstrasse 14\, Schwyz\, 6440\, Switzerland
CATEGORIES:Treff
END:VEVENT
BEGIN:VEVENT
DTSTART;TZID=Europe/Zurich:20220206T190000
DTEND;TZID=Europe/Zurich:20220206T220000
DTSTAMP:20260421T055051
CREATED:20210715T121725Z
LAST-MODIFIED:20210715T121725Z
UID:497-1644174000-1644184800@www.mythengay.ch
SUMMARY:Mythengay Treff
DESCRIPTION:Wir sind eine lockere Runde von Schwyzer LGBT jeden Alters\, die sich einmal im Monat in Schwyz zu einem Treff zusammenfinden.\nDort wird informiert und diskutiert\, geredet\, gelacht\, etwas getrunken und gegessen. Natürlich kann man da auch neue Leute kennen lernen und Kontakte knüpfen.
URL:https://www.mythengay.ch/event/treff-8/
LOCATION:Restaurant Hirschen\, Hinterdorfstrasse 14\, Schwyz\, 6440\, Switzerland
CATEGORIES:Treff
END:VEVENT
BEGIN:VEVENT
DTSTART;TZID=Europe/Zurich:20220205T093000
DTEND;TZID=Europe/Zurich:20220205T160000
DTSTAMP:20260421T055051
CREATED:20220130T133003Z
LAST-MODIFIED:20220130T134001Z
UID:821-1644053400-1644076800@www.mythengay.ch
SUMMARY:mythengay Skitag
DESCRIPTION:05. Februar 2022 findet wieder ein Ski-Tag statt. \nZeiten \n\nTreffpunkt: 09:30 Uhr Talstation Rothenfluebahn Rickenbach\nTreffpunkt für Langschläfer oder Leute mit Anreiseweg: 11:30 Uhr Schneebar Grossenboden\n\nWeitere Infos: \n\nÖV- Info: Bus 503 fährt am Bhf Schwyz/Seewen um 09:11 Uhr ab und ist um 09:23 Uhr an der Talstation Rickenbach\nSkitageskarte Mythenregion zahlt jeder selbst\nApero um 11:30 wird aus der Clubkasse offeriert\nTeilnahme nur mit Ski- oder Snowboardausrüstung\, keine Anfänger\nAnlass findet bei jedem Wetter statt
URL:https://www.mythengay.ch/event/mythengay-skitag/
LOCATION:Mythenregion
CATEGORIES:Event in Schwyz
END:VEVENT
BEGIN:VEVENT
DTSTART;TZID=Europe/Zurich:20220102T190000
DTEND;TZID=Europe/Zurich:20220102T220000
DTSTAMP:20260421T055051
CREATED:20210715T121725Z
LAST-MODIFIED:20210715T121725Z
UID:496-1641150000-1641160800@www.mythengay.ch
SUMMARY:Mythengay Treff
DESCRIPTION:Wir sind eine lockere Runde von Schwyzer LGBT jeden Alters\, die sich einmal im Monat in Schwyz zu einem Treff zusammenfinden.\nDort wird informiert und diskutiert\, geredet\, gelacht\, etwas getrunken und gegessen. Natürlich kann man da auch neue Leute kennen lernen und Kontakte knüpfen.
URL:https://www.mythengay.ch/event/treff-7/
LOCATION:Restaurant Hirschen\, Hinterdorfstrasse 14\, Schwyz\, 6440\, Switzerland
CATEGORIES:Treff
END:VEVENT
BEGIN:VEVENT
DTSTART;TZID=Europe/Zurich:20211205T190000
DTEND;TZID=Europe/Zurich:20211205T220000
DTSTAMP:20260421T055051
CREATED:20210715T121723Z
LAST-MODIFIED:20210715T121723Z
UID:495-1638730800-1638741600@www.mythengay.ch
SUMMARY:Mythengay Treff
DESCRIPTION:Wir sind eine lockere Runde von Schwyzer LGBT jeden Alters\, die sich einmal im Monat in Schwyz zu einem Treff zusammenfinden.\nDort wird informiert und diskutiert\, geredet\, gelacht\, etwas getrunken und gegessen. Natürlich kann man da auch neue Leute kennen lernen und Kontakte knüpfen.
URL:https://www.mythengay.ch/event/treff-6/
LOCATION:Restaurant Hirschen\, Hinterdorfstrasse 14\, Schwyz\, 6440\, Switzerland
CATEGORIES:Treff
END:VEVENT
BEGIN:VEVENT
DTSTART;TZID=Europe/Zurich:20211201T200000
DTEND;TZID=Europe/Zurich:20211201T235900
DTSTAMP:20260421T055051
CREATED:20211105T080226Z
LAST-MODIFIED:20211105T080615Z
UID:793-1638388800-1638403140@www.mythengay.ch
SUMMARY:Welt-Aids-Tag 2021 - Gaswerk Seewen
DESCRIPTION:DATUM MITTWOCH\, 01.12.2021\nTÜRÖFFNUNG 19:30 UHR\nBEGINN 20.00 UHR\nART GESUNDHEIT SCHWYZ PRÄSENTIERT\nEINTRITT EINTRITT FREI \nJosy & Marco mit Covers und eigenen Songs – Ein öffentlicher Anlass von Gesundheit Schwyz zum Welt-Aids-Tag 2021 \nVor 40 Jahren wurde in den USA erstmals über die Aids-Symptome berichtet. Seither forderte die HIV-Pandemie welt-weit mehr als 30 Mio. Menschen-leben. Sie hat aber auch eine medizinische Erfolgsgeschichte und einen tiefgreifenden gesellschaftlichen Wandel im Umgang mit Sexualität bewirkt. \nAm diesjährigen Welt-Aids-Tag blicken wir zurück auf die Geschichte von HIV/Aids in der Schweiz und im Kanton Schwyz. Das Schwyzer Duo Marco Costa und Josy Schaffert covert bekannte Songs über HIV/Aids und spielt eigene Stücke. Dazwischen erzählen Zeitzeugen von HIV/Aids damals und heute: Wie hat es unsere Gesellschaft verändert? Wie haben wir mit dem Virus leben gelernt? \nWir feiern das Jubiläum und geniessen gratis Glühwein\, Punsch und ein feines Raclette!
URL:https://www.mythengay.ch/event/welt-aids-tag-2021-gaswerk-seewen/
LOCATION:Gaswerk\, Bahnhofstrasse 180b\, Seewen SZ\, 6423\, Switzerland
CATEGORIES:Event in Schwyz
END:VEVENT
BEGIN:VEVENT
DTSTART;TZID=Europe/Zurich:20211107T190000
DTEND;TZID=Europe/Zurich:20211107T220000
DTSTAMP:20260421T055051
CREATED:20210715T121723Z
LAST-MODIFIED:20210715T121723Z
UID:494-1636311600-1636322400@www.mythengay.ch
SUMMARY:Mythengay Treff
DESCRIPTION:Wir sind eine lockere Runde von Schwyzer LGBT jeden Alters\, die sich einmal im Monat in Schwyz zu einem Treff zusammenfinden.\nDort wird informiert und diskutiert\, geredet\, gelacht\, etwas getrunken und gegessen. Natürlich kann man da auch neue Leute kennen lernen und Kontakte knüpfen.
URL:https://www.mythengay.ch/event/treff-5/
LOCATION:Restaurant Hirschen\, Hinterdorfstrasse 14\, Schwyz\, 6440\, Switzerland
CATEGORIES:Treff
END:VEVENT
BEGIN:VEVENT
DTSTART;TZID=Europe/Zurich:20211003T190000
DTEND;TZID=Europe/Zurich:20211003T220000
DTSTAMP:20260421T055051
CREATED:20210715T121723Z
LAST-MODIFIED:20210715T121723Z
UID:493-1633287600-1633298400@www.mythengay.ch
SUMMARY:Mythengay Treff
DESCRIPTION:Wir sind eine lockere Runde von Schwyzer LGBT jeden Alters\, die sich einmal im Monat in Schwyz zu einem Treff zusammenfinden.\nDort wird informiert und diskutiert\, geredet\, gelacht\, etwas getrunken und gegessen. Natürlich kann man da auch neue Leute kennen lernen und Kontakte knüpfen.
URL:https://www.mythengay.ch/event/treff-4/
LOCATION:Restaurant Hirschen\, Hinterdorfstrasse 14\, Schwyz\, 6440\, Switzerland
CATEGORIES:Treff
END:VEVENT
BEGIN:VEVENT
DTSTART;TZID=Europe/Zurich:20210905T190000
DTEND;TZID=Europe/Zurich:20210905T220000
DTSTAMP:20260421T055051
CREATED:20210715T121723Z
LAST-MODIFIED:20210715T121723Z
UID:492-1630868400-1630879200@www.mythengay.ch
SUMMARY:Mythengay Treff
DESCRIPTION:Wir sind eine lockere Runde von Schwyzer LGBT jeden Alters\, die sich einmal im Monat in Schwyz zu einem Treff zusammenfinden.\nDort wird informiert und diskutiert\, geredet\, gelacht\, etwas getrunken und gegessen. Natürlich kann man da auch neue Leute kennen lernen und Kontakte knüpfen.
URL:https://www.mythengay.ch/event/treff-3/
LOCATION:Restaurant Hirschen\, Hinterdorfstrasse 14\, Schwyz\, 6440\, Switzerland
CATEGORIES:Treff
END:VEVENT
BEGIN:VEVENT
DTSTART;TZID=Europe/Zurich:20210801T190000
DTEND;TZID=Europe/Zurich:20210801T220000
DTSTAMP:20260421T055051
CREATED:20210715T121723Z
LAST-MODIFIED:20210715T121723Z
UID:491-1627844400-1627855200@www.mythengay.ch
SUMMARY:Mythengay Treff
DESCRIPTION:Wir sind eine lockere Runde von Schwyzer LGBT jeden Alters\, die sich einmal im Monat in Schwyz zu einem Treff zusammenfinden.\nDort wird informiert und diskutiert\, geredet\, gelacht\, etwas getrunken und gegessen. Natürlich kann man da auch neue Leute kennen lernen und Kontakte knüpfen.
URL:https://www.mythengay.ch/event/treff-2/
LOCATION:Restaurant Hirschen\, Hinterdorfstrasse 14\, Schwyz\, 6440\, Switzerland
CATEGORIES:Treff
END:VEVENT
BEGIN:VEVENT
DTSTART;TZID=Europe/Zurich:20210715T080000
DTEND;TZID=Europe/Zurich:20210715T170000
DTSTAMP:20260421T055051
CREATED:20210715T072559Z
LAST-MODIFIED:20210715T072559Z
UID:479-1626336000-1626368400@www.mythengay.ch
SUMMARY:Mythengay Treff
DESCRIPTION:Wir sind eine lockere Runde von Schwyzer LGBT jeden Alters\, die sich einmal im Monat in Schwyz zu einem Treff zusammenfinden. \nDort wird informiert und diskutiert\, geredet\, gelacht\, etwas getrunken und gegessen. Natürlich kann man da auch neue Leute kennen lernen und Kontakte knüpfen.
URL:https://www.mythengay.ch/event/treff/
LOCATION:Restaurant Hirschen\, Hinterdorfstrasse 14\, Schwyz\, 6440\, Switzerland
CATEGORIES:Treff
END:VEVENT
END:VCALENDAR