BEGIN:VCALENDAR
VERSION:2.0
PRODID:-//Mythengay - ECPv6.15.20//NONSGML v1.0//EN
CALSCALE:GREGORIAN
METHOD:PUBLISH
X-ORIGINAL-URL:https://www.mythengay.ch
X-WR-CALDESC:Veranstaltungen im Mythengay
REFRESH-INTERVAL;VALUE=DURATION:PT1H
X-Robots-Tag:noindex
X-PUBLISHED-TTL:PT1H
BEGIN:VTIMEZONE
TZID:Europe/Zurich
BEGIN:DAYLIGHT
TZOFFSETFROM:+0100
TZOFFSETTO:+0200
TZNAME:CEST
DTSTART:20240331T010000
END:DAYLIGHT
BEGIN:STANDARD
TZOFFSETFROM:+0200
TZOFFSETTO:+0100
TZNAME:CET
DTSTART:20241027T010000
END:STANDARD
BEGIN:DAYLIGHT
TZOFFSETFROM:+0100
TZOFFSETTO:+0200
TZNAME:CEST
DTSTART:20250330T010000
END:DAYLIGHT
BEGIN:STANDARD
TZOFFSETFROM:+0200
TZOFFSETTO:+0100
TZNAME:CET
DTSTART:20251026T010000
END:STANDARD
BEGIN:DAYLIGHT
TZOFFSETFROM:+0100
TZOFFSETTO:+0200
TZNAME:CEST
DTSTART:20260329T010000
END:DAYLIGHT
BEGIN:STANDARD
TZOFFSETFROM:+0200
TZOFFSETTO:+0100
TZNAME:CET
DTSTART:20261025T010000
END:STANDARD
END:VTIMEZONE
BEGIN:VEVENT
DTSTART;TZID=Europe/Zurich:20250621T130000
DTEND;TZID=Europe/Zurich:20250621T160000
DTSTAMP:20260420T205427
CREATED:20250328T211839Z
LAST-MODIFIED:20250328T211839Z
UID:1172-1750510800-1750521600@www.mythengay.ch
SUMMARY:Pride Zürich
DESCRIPTION:Wir von Mythengay gehen gemeinsam an die Zurich Pride!\n\nWer ein T-Shirt von Mythengay hat\, darf dieses natürlich gerne anziehen (oder davor noch eines kaufen und unsere Vereinskasse unterstützen? Das geht hier www.mythengay.ch/neues-t-shirt).\n\nTreffpunkt: Wir treffen uns um 13 Uhr im Schatten vom Amtsgebäude am Helvetiaplatz (Ecke Richtung Volkshaus\, roter Kreis in der Skizze anbei) und laufen mit dem Demonstrationsumzug mit\nKontaktperson ist unser Präsident Linus: 079 434 3380. zurichpridefestival.ch/demonstration \nDie über 30 Anlässe der Zurich Pride Weeks findest Du hier\, von Wanderung über Canapé essen und Sport bis zu Living Library und Podium über inklusivem Sport ist alles dabei: zurichpridefestival.ch\n\nUnd falls Du als Volunteer zum Gelingen dieses Anlasses mithelfen willst kannst Du Dich hier melden: zurichpridefestival.ch/anmeldung-volunteer\n\n\nT-Shirt Shop\nBitte aktivieren Sie JavaScript in Ihrem Browser\, um dieses Formular fertigzustellen.Name *VornameNachnameAdresseEmail *Schnitt *Bitte wählen *Herren - (S)Herren - (M)Herren - (L)Herren tailliert - (S)Herren tailliert - (M)Herren tailliert - (L)Damen - (M)Damen - (L)Jedes T-Shirt CHF 22.-Lieferung *Bitte wählen *Abholung am mythengay TreffVersand (zzgl. 10.00.- Versandkosten)Kommentar *PhoneBestellen
URL:https://www.mythengay.ch/event/pride-zuerich/
LOCATION:Zürich\, Switzerland
CATEGORIES:Pride
END:VEVENT
END:VCALENDAR