BEGIN:VCALENDAR
VERSION:2.0
PRODID:-//Mythengay - ECPv6.15.20//NONSGML v1.0//EN
CALSCALE:GREGORIAN
METHOD:PUBLISH
X-ORIGINAL-URL:https://www.mythengay.ch
X-WR-CALDESC:Veranstaltungen im Mythengay
REFRESH-INTERVAL;VALUE=DURATION:PT1H
X-Robots-Tag:noindex
X-PUBLISHED-TTL:PT1H
BEGIN:VTIMEZONE
TZID:Europe/Zurich
BEGIN:DAYLIGHT
TZOFFSETFROM:+0100
TZOFFSETTO:+0200
TZNAME:CEST
DTSTART:20240331T010000
END:DAYLIGHT
BEGIN:STANDARD
TZOFFSETFROM:+0200
TZOFFSETTO:+0100
TZNAME:CET
DTSTART:20241027T010000
END:STANDARD
BEGIN:DAYLIGHT
TZOFFSETFROM:+0100
TZOFFSETTO:+0200
TZNAME:CEST
DTSTART:20250330T010000
END:DAYLIGHT
BEGIN:STANDARD
TZOFFSETFROM:+0200
TZOFFSETTO:+0100
TZNAME:CET
DTSTART:20251026T010000
END:STANDARD
BEGIN:DAYLIGHT
TZOFFSETFROM:+0100
TZOFFSETTO:+0200
TZNAME:CEST
DTSTART:20260329T010000
END:DAYLIGHT
BEGIN:STANDARD
TZOFFSETFROM:+0200
TZOFFSETTO:+0100
TZNAME:CET
DTSTART:20261025T010000
END:STANDARD
END:VTIMEZONE
BEGIN:VEVENT
DTSTART;TZID=Europe/Zurich:20250208T093000
DTEND;TZID=Europe/Zurich:20250208T160000
DTSTAMP:20260421T023933
CREATED:20250122T115619Z
LAST-MODIFIED:20250131T133410Z
UID:1138-1739007000-1739030400@www.mythengay.ch
SUMMARY:Skifahren Rotenfluh
DESCRIPTION:Es ist wieder soweit\, unser alljährlicher Skitag Ist geplant. Wir freuen uns euch am 08. Februar (verschoben von 22.02 auf 08.02) wieder in Schwyz if der Rotenfkuh begrüssen zu dürfen.. alle Schnehasen*innen sind willkommen! \n  \nweitere Informationen im Newsletter und Event-Chat. \nKosten trägt jeder selber.
URL:https://www.mythengay.ch/event/skifahren-rotenfluh/
LOCATION:Mythenregion
CATEGORIES:Event in Schwyz
END:VEVENT
END:VCALENDAR