BEGIN:VCALENDAR
VERSION:2.0
PRODID:-//Mythengay - ECPv6.15.20//NONSGML v1.0//EN
CALSCALE:GREGORIAN
METHOD:PUBLISH
X-WR-CALNAME:Mythengay
X-ORIGINAL-URL:https://www.mythengay.ch
X-WR-CALDESC:Veranstaltungen im Mythengay
REFRESH-INTERVAL;VALUE=DURATION:PT1H
X-Robots-Tag:noindex
X-PUBLISHED-TTL:PT1H
BEGIN:VTIMEZONE
TZID:Europe/Zurich
BEGIN:DAYLIGHT
TZOFFSETFROM:+0100
TZOFFSETTO:+0200
TZNAME:CEST
DTSTART:20220327T010000
END:DAYLIGHT
BEGIN:STANDARD
TZOFFSETFROM:+0200
TZOFFSETTO:+0100
TZNAME:CET
DTSTART:20221030T010000
END:STANDARD
BEGIN:DAYLIGHT
TZOFFSETFROM:+0100
TZOFFSETTO:+0200
TZNAME:CEST
DTSTART:20230326T010000
END:DAYLIGHT
BEGIN:STANDARD
TZOFFSETFROM:+0200
TZOFFSETTO:+0100
TZNAME:CET
DTSTART:20231029T010000
END:STANDARD
BEGIN:DAYLIGHT
TZOFFSETFROM:+0100
TZOFFSETTO:+0200
TZNAME:CEST
DTSTART:20240331T010000
END:DAYLIGHT
BEGIN:STANDARD
TZOFFSETFROM:+0200
TZOFFSETTO:+0100
TZNAME:CET
DTSTART:20241027T010000
END:STANDARD
END:VTIMEZONE
BEGIN:VEVENT
DTSTART;VALUE=DATE:20230211
DTEND;VALUE=DATE:20230212
DTSTAMP:20260423T115843
CREATED:20230113T202900Z
LAST-MODIFIED:20230113T203605Z
UID:995-1676073600-1676159999@www.mythengay.ch
SUMMARY:mythengay Skitag
DESCRIPTION:Reservier dir das Datum für unseren bekannten Skitag. Unter der Leitung von Alt-Präsident Robi geht es ins bekannte Skigebiet Mythen/Rotenflue\, die Details folgen im Infomail vom Januar 2023.
URL:https://www.mythengay.ch/event/mythengay-skitag-2/
LOCATION:Mythenregion
CATEGORIES:Event in Schwyz
END:VEVENT
END:VCALENDAR