BEGIN:VCALENDAR
VERSION:2.0
PRODID:-//Mythengay - ECPv6.15.20//NONSGML v1.0//EN
CALSCALE:GREGORIAN
METHOD:PUBLISH
X-WR-CALNAME:Mythengay
X-ORIGINAL-URL:https://www.mythengay.ch
X-WR-CALDESC:Veranstaltungen im Mythengay
REFRESH-INTERVAL;VALUE=DURATION:PT1H
X-Robots-Tag:noindex
X-PUBLISHED-TTL:PT1H
BEGIN:VTIMEZONE
TZID:Europe/Zurich
BEGIN:DAYLIGHT
TZOFFSETFROM:+0100
TZOFFSETTO:+0200
TZNAME:CEST
DTSTART:20210328T010000
END:DAYLIGHT
BEGIN:STANDARD
TZOFFSETFROM:+0200
TZOFFSETTO:+0100
TZNAME:CET
DTSTART:20211031T010000
END:STANDARD
BEGIN:DAYLIGHT
TZOFFSETFROM:+0100
TZOFFSETTO:+0200
TZNAME:CEST
DTSTART:20220327T010000
END:DAYLIGHT
BEGIN:STANDARD
TZOFFSETFROM:+0200
TZOFFSETTO:+0100
TZNAME:CET
DTSTART:20221030T010000
END:STANDARD
BEGIN:DAYLIGHT
TZOFFSETFROM:+0100
TZOFFSETTO:+0200
TZNAME:CEST
DTSTART:20230326T010000
END:DAYLIGHT
BEGIN:STANDARD
TZOFFSETFROM:+0200
TZOFFSETTO:+0100
TZNAME:CET
DTSTART:20231029T010000
END:STANDARD
END:VTIMEZONE
BEGIN:VEVENT
DTSTART;TZID=Europe/Zurich:20220611T160000
DTEND;TZID=Europe/Zurich:20220611T230000
DTSTAMP:20260424T122339
CREATED:20220302T180322Z
LAST-MODIFIED:20220426T194026Z
UID:833-1654963200-1654988400@www.mythengay.ch
SUMMARY:20. Jahre stolz in Schwyz - Jubiläum
DESCRIPTION:Seit 20 Jahren setzt sich Mythengay im Kanton Schwyz für die queere Community ein. Das feiern wir an einem Sommerfest mit (Open-Air)-Filmaufführung\, Diskussionsrunde\, Essen und der wunderbar unterhaltsamen und politischen Luzerner Dragqueen Lamer. Für Partystimmung sorgt die queere Schwyzer Band bikini showers. \nKommt vorbei! \nProgramm \n\n16 Uhr: Film\n17.30: Diskussion mit Gründungsmitgliedern und queerpuzzles-Leiter:innen – was hat sich in den letzten 20 Jahren verändert?\n18 Uhr: Apéro riche\n19.30 Uhr: Dragqueen – Lamer\n21 Uhr: Musik – Bikini Showers\n\nDas Fest ist öffentlich und man darf auch nur für einzelne Programmpunkte vorbeikommen 🙂
URL:https://www.mythengay.ch/event/20-jahre-stolz-in-schwyz-jubilaeum/
LOCATION:Restaurant Hirschen\, Hinterdorfstrasse 14\, Schwyz\, 6440\, Switzerland
END:VEVENT
END:VCALENDAR